BEGIN:VCALENDAR
VERSION:2.0
PRODID:-//eventon.com NONSGML v1.0//EN
BEGIN:VEVENT
UID:69ea60d5a2d42
DTSTAMP:20260423T181133
DTSTART:20260108T003000Z
DTEND:20260108T023000Z
TZID:America/New_York
LOCATION:The Legion Sugar Hill 6196 Suwanee Dam Rd.
SUMMARY:American Legion Monthly Meeting
DESCRIPTION: Monthly meeting for members of the American Legion.
URL:https://legion127.us/events/american-legion-monthly-meeting/
END:VEVENT
END:VCALENDAR