BEGIN:VCALENDAR
VERSION:2.0
PRODID:-//eventon.com NONSGML v1.0//EN
BEGIN:VEVENT
UID:69e746567bd5b
DTSTAMP:20260421T094142
DTSTART:20220109T170000Z
DTEND:20220109T200000Z
TZID:America/New_York
LOCATION:
SUMMARY:Euchre
DESCRIPTION: Join us for Euchre. Food menu available
URL:https://legion127.us/events/euchre/
END:VEVENT
END:VCALENDAR