BEGIN:VCALENDAR
VERSION:2.0
PRODID:-//eventon.com NONSGML v1.0//EN
BEGIN:VEVENT
UID:69e7463114c0d
DTSTAMP:20260421T094105
DTSTART:20220615T230000Z
DTEND:20220616T020000Z
TZID:America/New_York
LOCATION:
SUMMARY:Bike Night with Take3
DESCRIPTION: join us for a bike night with Take3
URL:https://legion127.us/events/bike-night-with-take3/
END:VEVENT
END:VCALENDAR