BEGIN:VCALENDAR
VERSION:2.0
PRODID:-//eventon.com NONSGML v1.0//EN
BEGIN:VEVENT
UID:69e74414e4cf5
DTSTAMP:20260421T093204
DTSTART:20220530T210000Z
DTEND:20220530T230000Z
TZID:America/New_York
LOCATION:
SUMMARY:Crab Leg Dinner
DESCRIPTION: Joim us for a Wednesday night crab dinner
URL:https://legion127.us/events/crab-leg-dinner/var/ri-2.l-L1
END:VEVENT
END:VCALENDAR