BEGIN:VCALENDAR
VERSION:2.0
PRODID:-//eventon.com NONSGML v1.0//EN
BEGIN:VEVENT
UID:69e75a380a68e
DTSTAMP:20260421T110632
DTSTART:20220606T210000Z
DTEND:20220606T230000Z
TZID:America/New_York
LOCATION:
SUMMARY:Crab Leg Dinner
DESCRIPTION: Joim us for a Wednesday night crab dinner
URL:https://legion127.us/events/crab-leg-dinner/var/ri-3.l-L1
END:VEVENT
END:VCALENDAR