BEGIN:VCALENDAR
VERSION:2.0
PRODID:-//eventon.com NONSGML v1.0//EN
BEGIN:VEVENT
UID:69e745cac9cf7
DTSTAMP:20260421T093922
DTSTART:20221217
DTEND:20221218
TZID:America/New_York
LOCATION:
SUMMARY:Wreaths Across American Day
DESCRIPTION: Wreaths Across American Day
URL:https://legion127.us/events/wreaths-across-american-day/
END:VEVENT
END:VCALENDAR