BEGIN:VCALENDAR
VERSION:2.0
PRODID:-//eventon.com NONSGML v1.0//EN
BEGIN:VEVENT
UID:69e745ec84060
DTSTAMP:20260421T093956
DTSTART:20230419T230000Z
DTEND:20230420T020000Z
TZID:America/New_York
LOCATION:
SUMMARY:Bike and Cage night with SMAC
DESCRIPTION: Bike and Cage night with SMAC
URL:https://legion127.us/events/bike-and-cage-night-with-smac/
END:VEVENT
END:VCALENDAR