BEGIN:VCALENDAR
VERSION:2.0
PRODID:-//eventon.com NONSGML v1.0//EN
BEGIN:VEVENT
UID:69e76760b8790
DTSTAMP:20260421T120240
DTSTART:20231029T000000Z
DTEND:20231029T030000Z
TZID:America/New_York
LOCATION:
SUMMARY:Music with DJ Timmy g
DESCRIPTION: join us for music with DJ Timmy g
URL:https://legion127.us/events/music-with-dj-timmy-g/
END:VEVENT
END:VCALENDAR