BEGIN:VCALENDAR
VERSION:2.0
PRODID:-//eventon.com NONSGML v1.0//EN
BEGIN:VEVENT
UID:69e4d993b9dd1
DTSTAMP:20260419T133307
DTSTART:20230902T140000Z
DTEND:20230902T210000Z
TZID:America/New_York
LOCATION:
SUMMARY:Veterans Rally Point
DESCRIPTION: Veterans Rally Point
URL:https://legion127.us/events/veterans-rally-point/
END:VEVENT
END:VCALENDAR