BEGIN:VCALENDAR
VERSION:2.0
PRODID:-//eventon.com NONSGML v1.0//EN
BEGIN:VEVENT
UID:69e7462aef4a8
DTSTAMP:20260421T094058
DTSTART:20240427T190000Z
DTEND:20240427T230000Z
TZID:America/New_York
LOCATION:
SUMMARY:Man Olympics
DESCRIPTION: Man Olympics
URL:https://legion127.us/events/man-olympics-2/
END:VEVENT
END:VCALENDAR