BEGIN:VCALENDAR
VERSION:2.0
PRODID:-//eventon.com NONSGML v1.0//EN
BEGIN:VEVENT
UID:69e7462ac93a3
DTSTAMP:20260421T094058
DTSTART:20240417T230000Z
DTEND:20240418T030000Z
TZID:America/New_York
LOCATION:
SUMMARY:Legion Bike Night Opener with SMAC
DESCRIPTION: join us for a free band at the first bike night of the year
URL:https://legion127.us/events/legion-bike-night-opener-with-smac/
END:VEVENT
END:VCALENDAR