BEGIN:VCALENDAR
VERSION:2.0
PRODID:-//eventon.com NONSGML v1.0//EN
BEGIN:VEVENT
UID:69e745e0d5f99
DTSTAMP:20260421T093944
DTSTART:20250313T000000Z
DTEND:20250313T030000Z
TZID:America/New_York
LOCATION:
SUMMARY:St Patrick’s day with Feeling Friday
DESCRIPTION: join the celebration with the band Feeling Friday St Patrick’s Day with Feeling Friday join us for the celebration with a great band Feeling Friday
URL:https://legion127.us/events/295033/
END:VEVENT
END:VCALENDAR