BEGIN:VCALENDAR
VERSION:2.0
PRODID:-//eventon.com NONSGML v1.0//EN
BEGIN:VEVENT
UID:69e74630e549e
DTSTAMP:20260421T094104
DTSTART:20250406T000000Z
DTEND:20250406T030000Z
TZID:America/New_York
LOCATION:
SUMMARY:Saturday Night Band The Regulators
DESCRIPTION: join us for a Saturday night band. $10 cover please
URL:https://legion127.us/events/saturday-night-band-the-regulators/
END:VEVENT
END:VCALENDAR