BEGIN:VCALENDAR
VERSION:2.0
PRODID:-//eventon.com NONSGML v1.0//EN
BEGIN:VEVENT
UID:69e745ec9cefb
DTSTAMP:20260421T093956
DTSTART:20250607T230000Z
DTEND:20250608T030000Z
TZID:America/New_York
LOCATION:
SUMMARY:Saturday Bike night with SMAC
DESCRIPTION: Saturday Bike Night
URL:https://legion127.us/events/smac/
END:VEVENT
END:VCALENDAR