BEGIN:VCALENDAR
VERSION:2.0
PRODID:-//eventon.com NONSGML v1.0//EN
BEGIN:VEVENT
UID:69e9e06075336
DTSTAMP:20260423T090328
DTSTART:20251005T000000Z
DTEND:20251005T020000Z
TZID:America/New_York
LOCATION:
SUMMARY:LIVE music with Good Measure
DESCRIPTION: LIVE music with Good Measure
URL:https://legion127.us/events/live-music-with-good-measure/
END:VEVENT
END:VCALENDAR