BEGIN:VCALENDAR
VERSION:2.0
PRODID:-//eventon.com NONSGML v1.0//EN
BEGIN:VEVENT
UID:69e888d0af260
DTSTAMP:20260422T083736
DTSTART:20260121T220000Z
DTEND:20260121T230000Z
TZID:America/New_York
LOCATION:
SUMMARY:Flag Retirement
DESCRIPTION: Join us for a flag retirement ceremony
URL:https://legion127.us/events/flag-retirement-2/
END:VEVENT
END:VCALENDAR