BEGIN:VCALENDAR
VERSION:2.0
PRODID:-//eventon.com NONSGML v1.0//EN
BEGIN:VEVENT
UID:69e888d0aaa97
DTSTAMP:20260422T083736
DTSTART:20260308T020000Z
DTEND:20260308T040000Z
TZID:America/New_York
LOCATION:
SUMMARY:Fly Betty at the Legion
DESCRIPTION: join us for a great night of music with FLY Betty $10 cover
URL:https://legion127.us/events/fly-betty-at-the-legion/
END:VEVENT
END:VCALENDAR